BEGIN:VCALENDAR
VERSION:2.0
PRODID:-//El Camino Academy
CALSCALE:GREGORIAN
METHOD:PUBLISH
X-WR-CALNAME:El Camino Academy
X-ORIGINAL-URL:https://eca.edu.co/k-event/battle-of-the-books/
X-WR-CALDESC:Battle of the Books
BEGIN:VEVENT
DTSTART:
DTEND:
SUMMARY:Battle of the Books
DESCRIPTION:
LOCATION:
END:VEVENT
END:VCALENDAR
